BEGIN:VCALENDAR
VERSION:2.0
PRODID:-//99.3 The River - ECPv4.6.26//NONSGML v1.0//EN
CALSCALE:GREGORIAN
METHOD:PUBLISH
X-WR-CALNAME:99.3 The River
X-ORIGINAL-URL:https://993theriver.com
X-WR-CALDESC:Events for 99.3 The River
BEGIN:VEVENT
DTSTART;TZID=America/Halifax:20181006T200000
DTEND;TZID=America/Halifax:20181006T230000
DTSTAMP:20260425T113033
CREATED:20180925T171201Z
LAST-MODIFIED:20180925T171201Z
UID:6516-1538856000-1538866800@993theriver.com
SUMMARY:Dance
DESCRIPTION:Seamen’s Hospital\, 12 Vye St\, (Douglastown) Miramichi – across from St. Samuel’s Church\nLive Music with “Last Call”\nSaturday\, October 6\, 2018 – 8 pm to 11 pm (note time change)\nEveryone welcome\nAdmission: $8.00 per person at the door\nNo bar but canteen available \n
URL:https://993theriver.com/event/dance-9/
END:VEVENT
END:VCALENDAR