BEGIN:VCALENDAR
VERSION:2.0
PRODID:-//99.3 The River - ECPv4.6.26//NONSGML v1.0//EN
CALSCALE:GREGORIAN
METHOD:PUBLISH
X-WR-CALNAME:99.3 The River
X-ORIGINAL-URL:https://993theriver.com
X-WR-CALDESC:Events for 99.3 The River
BEGIN:VEVENT
DTSTART;TZID=America/Halifax:20230429T200000
DTEND;TZID=America/Halifax:20230429T230000
DTSTAMP:20260419T232451
CREATED:20230329T134222Z
LAST-MODIFIED:20230513T124135Z
UID:19047-1682798400-1682809200@993theriver.com
SUMMARY:Dance
DESCRIPTION:  \nDance at the Lions Club Sunny Corner  April 29  2023  8 – 11 pm \nMusic by Family Sounds.  The cost $7.00 per person \nlight lunch to follow \n
URL:https://993theriver.com/event/dance-18/
CATEGORIES:Entertainment
END:VEVENT
END:VCALENDAR