BEGIN:VCALENDAR
VERSION:2.0
PRODID:-//99.3 The River - ECPv4.6.26//NONSGML v1.0//EN
CALSCALE:GREGORIAN
METHOD:PUBLISH
X-WR-CALNAME:99.3 The River
X-ORIGINAL-URL:https://993theriver.com
X-WR-CALDESC:Events for 99.3 The River
BEGIN:VEVENT
DTSTART;TZID=America/Halifax:20231028T100000
DTEND;TZID=America/Halifax:20231028T140000
DTSTAMP:20260423T112233
CREATED:20231026T230310Z
LAST-MODIFIED:20231026T230310Z
UID:20091-1698487200-1698501600@993theriver.com
SUMMARY:Curling Open House
DESCRIPTION: \n
URL:https://993theriver.com/event/curling-open-house-3/2023-10-28/
CATEGORIES:Sports
END:VEVENT
END:VCALENDAR