BEGIN:VCALENDAR
VERSION:2.0
PRODID:-//99.3 The River - ECPv4.6.26//NONSGML v1.0//EN
CALSCALE:GREGORIAN
METHOD:PUBLISH
X-WR-CALNAME:99.3 The River
X-ORIGINAL-URL:https://993theriver.com
X-WR-CALDESC:Events for 99.3 The River
BEGIN:VEVENT
DTSTART;TZID=America/Halifax:20200805T190000
DTEND;TZID=America/Halifax:20200805T220000
DTSTAMP:20260424T153542
CREATED:20200804T142138Z
LAST-MODIFIED:20200804T142138Z
UID:12015-1596654000-1596664800@993theriver.com
SUMMARY:Country Jamboree
DESCRIPTION:Saint James and Saint John United Church Centre. \nKing George Highway \nEvery Wednesday Night \n7:00-10:00 PM \n
URL:https://993theriver.com/event/country-jamboree/
END:VEVENT
END:VCALENDAR