BEGIN:VCALENDAR
VERSION:2.0
PRODID:-//99.3 The River - ECPv4.6.26//NONSGML v1.0//EN
CALSCALE:GREGORIAN
METHOD:PUBLISH
X-WR-CALNAME:99.3 The River
X-ORIGINAL-URL:https://993theriver.com
X-WR-CALDESC:Events for 99.3 The River
BEGIN:VEVENT
DTSTART;TZID=America/Halifax:20181015T200000
DTEND;TZID=America/Halifax:20181015T200000
DTSTAMP:20260422T142034
CREATED:20180907T172307Z
LAST-MODIFIED:20180911T173902Z
UID:6436-1539633600-1539633600@993theriver.com
SUMMARY:Country Blend Concert
DESCRIPTION:“Tribute to the Legends of Country Music” will be presented by “Country Blend” at St. Andrew’s United Church\, 188 Wellington Street\, and Miramichi on Monday\, October 15\, 2018 at 8:00 p.m. Tickets are $15.00 a person and are now on sale at Scott’s Drugstore\, Dickinson’s Pharmasave and St. Andrew’s Church Office. Following the concert there will be light refreshments and a chance to purchase Country Blends 10 CD releases. Music will be from some of following Great Musical Performers such as: Dolly\, Patsy\, Loretta\, Kitty\, Jeannie\, Jim Reeves\, Hank Williams Sr.\, Johnny Cash\, Statler Bros.\, Willie Nelson\, etc. \n
URL:https://993theriver.com/event/country-blend-concert/
END:VEVENT
END:VCALENDAR