BEGIN:VCALENDAR
VERSION:2.0
PRODID:-//99.3 The River - ECPv4.6.26//NONSGML v1.0//EN
CALSCALE:GREGORIAN
METHOD:PUBLISH
X-WR-CALNAME:99.3 The River
X-ORIGINAL-URL:https://993theriver.com
X-WR-CALDESC:Events for 99.3 The River
BEGIN:VEVENT
DTSTART;TZID=America/Halifax:20250329T150000
DTEND;TZID=America/Halifax:20250329T150000
DTSTAMP:20260423T081820
CREATED:20250324T215252Z
LAST-MODIFIED:20250324T215252Z
UID:24010-1743260400-1743260400@993theriver.com
SUMMARY:Corn Hole Tournament
DESCRIPTION:Loggieville Community Center \nSaturday\, March 29th \nRegistration at 2:30 play starts at 3. \n$25 entry fee. \nWill draw for partners. \nEntertainment in the pub from 6-9 with Rylie Harris. \nEveryone welcome! Call the 506-773-4360 for more information or to register early! \n
URL:https://993theriver.com/event/corn-hole-tournament/
CATEGORIES:Community Events
END:VEVENT
END:VCALENDAR