BEGIN:VCALENDAR
VERSION:2.0
PRODID:-//99.3 The River - ECPv4.6.26//NONSGML v1.0//EN
CALSCALE:GREGORIAN
METHOD:PUBLISH
X-WR-CALNAME:99.3 The River
X-ORIGINAL-URL:https://993theriver.com
X-WR-CALDESC:Events for 99.3 The River
BEGIN:VEVENT
DTSTART;TZID=America/Halifax:20191012T193000
DTEND;TZID=America/Halifax:20191012T193000
DTSTAMP:20260421T191543
CREATED:20191007T121952Z
LAST-MODIFIED:20191007T121952Z
UID:9364-1570908600-1570908600@993theriver.com
SUMMARY:Concert of the Culture
DESCRIPTION: \n
URL:https://993theriver.com/event/concert-of-the-culture/
END:VEVENT
END:VCALENDAR