BEGIN:VCALENDAR
VERSION:2.0
PRODID:-//99.3 The River - ECPv4.6.26//NONSGML v1.0//EN
CALSCALE:GREGORIAN
METHOD:PUBLISH
X-WR-CALNAME:99.3 The River
X-ORIGINAL-URL:https://993theriver.com
X-WR-CALDESC:Events for 99.3 The River
BEGIN:VEVENT
DTSTART;TZID=America/Halifax:20231210T120000
DTEND;TZID=America/Halifax:20231210T170000
DTSTAMP:20260419T172213
CREATED:20231129T140148Z
LAST-MODIFIED:20231202T132330Z
UID:20399-1702209600-1702227600@993theriver.com
SUMMARY:Community For All
DESCRIPTION:“Community For All” – JMH student project focusing on elder wellbeing and community connection. Dec 10 12p-5p event invites seniors and teens from the community to participate in activities such as making crafts\, playing games\, and listening to music. \n
URL:https://993theriver.com/event/community-for-all/
END:VEVENT
END:VCALENDAR