BEGIN:VCALENDAR
VERSION:2.0
PRODID:-//99.3 The River - ECPv4.6.26//NONSGML v1.0//EN
CALSCALE:GREGORIAN
METHOD:PUBLISH
X-WR-CALNAME:99.3 The River
X-ORIGINAL-URL:https://993theriver.com
X-WR-CALDESC:Events for 99.3 The River
BEGIN:VEVENT
DTSTART;TZID=America/Halifax:20231015T153000
DTEND;TZID=America/Halifax:20231015T170000
DTSTAMP:20260425T125852
CREATED:20231015T132752Z
LAST-MODIFIED:20231015T132752Z
UID:20019-1697383800-1697389200@993theriver.com
SUMMARY:Church Supper (Oct 21st)
DESCRIPTION:St. James & St. John United Church Fall Supper \nSaturday\, October 21st\, 3:30 – 5:00 PM. \nThe menu is roast beef\, roast pork\, potatoes\, gravy\, vegetables\, roll and home-made apple pie. \nTickets are $18 for adults and $10 children 12 & under. \nPre-sold tickets available at the Church Centre\, Dickison’s Pharmasave and Brookdale Flower Shop. Take-out only\, with pick up at the front doors\, 556 King George Hwy. \n
URL:https://993theriver.com/event/church-supper-oct-21st/2023-10-15/
CATEGORIES:Community Events
END:VEVENT
END:VCALENDAR