BEGIN:VCALENDAR
VERSION:2.0
PRODID:-//99.3 The River - ECPv4.6.26//NONSGML v1.0//EN
CALSCALE:GREGORIAN
METHOD:PUBLISH
X-WR-CALNAME:99.3 The River
X-ORIGINAL-URL:https://993theriver.com
X-WR-CALDESC:Events for 99.3 The River
BEGIN:VEVENT
DTSTART;TZID=America/Halifax:20241006T150000
DTEND;TZID=America/Halifax:20241006T180000
DTSTAMP:20260422T130534
CREATED:20240926T232125Z
LAST-MODIFIED:20240926T232125Z
UID:23108-1728226800-1728237600@993theriver.com
SUMMARY:Church Supper
DESCRIPTION:Good Shephard Parish Fall Supper \nSt Bridget’s Church in Renous\, \nSunday October 6\, \n3 to 6 pm. \nTurkey Supper\, with all the fixings and dessert. \nAdult $16 & Children under 12 $10 \n
URL:https://993theriver.com/event/church-supper-3/
CATEGORIES:Community Events
END:VEVENT
END:VCALENDAR