BEGIN:VCALENDAR
VERSION:2.0
PRODID:-//99.3 The River - ECPv4.6.26//NONSGML v1.0//EN
CALSCALE:GREGORIAN
METHOD:PUBLISH
X-WR-CALNAME:99.3 The River
X-ORIGINAL-URL:https://993theriver.com
X-WR-CALDESC:Events for 99.3 The River
BEGIN:VEVENT
DTSTART;TZID=America/Halifax:20231125T100000
DTEND;TZID=America/Halifax:20231125T150000
DTSTAMP:20260425T172513
CREATED:20231122T105417Z
LAST-MODIFIED:20231125T135145Z
UID:20341-1700906400-1700924400@993theriver.com
SUMMARY:Christmas Market (Dec 3rd)
DESCRIPTION:
URL:https://993theriver.com/event/christmas-market-6/2023-11-25/
CATEGORIES:Community Events
ATTACH;FMTTYPE=image/jpeg:https://993theriver.com/wp-content/uploads/sites/19/2023/11/CHRISTMAS-EXHIBITION.jpg
END:VEVENT
END:VCALENDAR