BEGIN:VCALENDAR
VERSION:2.0
PRODID:-//99.3 The River - ECPv4.6.26//NONSGML v1.0//EN
CALSCALE:GREGORIAN
METHOD:PUBLISH
X-WR-CALNAME:99.3 The River
X-ORIGINAL-URL:https://993theriver.com
X-WR-CALDESC:Events for 99.3 The River
BEGIN:VEVENT
DTSTART;TZID=America/Halifax:20191109T100000
DTEND;TZID=America/Halifax:20191109T150000
DTSTAMP:20260422T113012
CREATED:20191023T120959Z
LAST-MODIFIED:20191023T120959Z
UID:9542-1573293600-1573311600@993theriver.com
SUMMARY:Christmas Market
DESCRIPTION:Saturday November 9th \n10AM to 3PM \nCollette Community Center \n330 chemin Collette (before Rogersville). \nOver 60 tables of handmade products from local crafters and artists. \n
URL:https://993theriver.com/event/christmas-market-2/
END:VEVENT
END:VCALENDAR