BEGIN:VCALENDAR
VERSION:2.0
PRODID:-//99.3 The River - ECPv4.6.26//NONSGML v1.0//EN
CALSCALE:GREGORIAN
METHOD:PUBLISH
X-WR-CALNAME:99.3 The River
X-ORIGINAL-URL:https://993theriver.com
X-WR-CALDESC:Events for 99.3 The River
BEGIN:VEVENT
DTSTART;VALUE=DATE:20171101
DTEND;VALUE=DATE:20171102
DTSTAMP:20260423T022721
CREATED:20171030T015834Z
LAST-MODIFIED:20171030T015834Z
UID:4640-1509494400-1509580799@993theriver.com
SUMMARY:Christmas Hampers Registration (Chatham Area)
DESCRIPTION:Registration for Christmas Hampers for the Chatham area is scheduled for\nMonday\, November 6th from 10am to 2pm\nTuesday\, November 7th from 10am to 2pm and\nMonday\, November 13th from 10am to 12noon. \nRegistration takes place at St. Mary’s Anglican Church \, 207 Wellington Street. \nFamilies eligible to register in the Chatham area are those living in the area from Harper Road to Loggieville\, Black River\, Napan\, and St. Margarets. \nPlease bring your medicare card\, social assistance card\, and proof of income. \n
URL:https://993theriver.com/event/christmas-hampers-registration-chatham-area/2017-11-01/
END:VEVENT
END:VCALENDAR