BEGIN:VCALENDAR
VERSION:2.0
PRODID:-//99.3 The River - ECPv4.6.26//NONSGML v1.0//EN
CALSCALE:GREGORIAN
METHOD:PUBLISH
X-WR-CALNAME:99.3 The River
X-ORIGINAL-URL:https://993theriver.com
X-WR-CALDESC:Events for 99.3 The River
BEGIN:VEVENT
DTSTART;TZID=America/Halifax:20211101T100000
DTEND;TZID=America/Halifax:20211101T120000
DTSTAMP:20260423T230019
CREATED:20211024T143806Z
LAST-MODIFIED:20211024T143806Z
UID:15926-1635760800-1635768000@993theriver.com
SUMMARY:Christmas Hampers
DESCRIPTION:Registration for Christmas Hampers for the Chatham Area is scheduled for November 1st\, 2nd\, and 8th from 10:00AM to 12:00PM each day. \nRegistration will take place at St. Mary’s Anglican Church\, 207 Wellington Street. \nPeople eligible to register must live in the area from Harper Road to Loggieville\, Black River\, Napan\, and St. Margaret’s. \nPlease bring your Medicare Card\, Social Services Card\, and proof of address and income. \nCOVID 19 restrictions will be followed. \n
URL:https://993theriver.com/event/christmas-hampers-3/2021-11-01/
CATEGORIES:Community
END:VEVENT
END:VCALENDAR