BEGIN:VCALENDAR
VERSION:2.0
PRODID:-//99.3 The River - ECPv4.6.26//NONSGML v1.0//EN
CALSCALE:GREGORIAN
METHOD:PUBLISH
X-WR-CALNAME:99.3 The River
X-ORIGINAL-URL:https://993theriver.com
X-WR-CALDESC:Events for 99.3 The River
BEGIN:VEVENT
DTSTART;TZID=America/Halifax:20241221T200000
DTEND;TZID=America/Halifax:20241221T200000
DTSTAMP:20260419T165749
CREATED:20241209T015117Z
LAST-MODIFIED:20241209T015117Z
UID:23588-1734811200-1734811200@993theriver.com
SUMMARY:Christmas Dance
DESCRIPTION:Royal Canadian Legion Branch 10 will be holding a Christmas Dance  \nSaturday\, Dec 21\, 2024.  \nCover charge of $8.00 at the door.  \nMusic by RipTide.  \nNow located at our new location of 345 Campbell Street (shared building with the Knights of Columbus). \n
URL:https://993theriver.com/event/christmas-dance/
END:VEVENT
END:VCALENDAR