BEGIN:VCALENDAR
VERSION:2.0
PRODID:-//99.3 The River - ECPv4.6.26//NONSGML v1.0//EN
CALSCALE:GREGORIAN
METHOD:PUBLISH
X-WR-CALNAME:99.3 The River
X-ORIGINAL-URL:https://993theriver.com
X-WR-CALDESC:Events for 99.3 The River
BEGIN:VEVENT
DTSTART;TZID=UTC+1:20171201T190000
DTEND;TZID=UTC+1:20171201T190000
DTSTAMP:20260424T060431
CREATED:20171106T034150Z
LAST-MODIFIED:20171106T034150Z
UID:4787-1512154800-1512154800@993theriver.com
SUMMARY:Christmas at the Miramichi Valley Nursing Home
DESCRIPTION:The St. James & John Drama Troupe is proud to present “Christmas at the Miramichi Valley Nursing Home”\, a dessert theater\, December 1\, 2\, 3\, at 7:00 PM (doors open at 6:15 PM) at the United Church Center\, 556 King George Hwy. \nTickets are $15 and available at the church center\, Brookdale Flower Shop and Breatheasy. \nA touching and humorous play about the dreams\, loneliness and uplifting faith of a group of elderly people gathered in the common room of a nursing home on Christmas Eve – this is a play you won’t want to miss! \nOn stage is Diane Forrest\, Susan Watling\, Greg Donovan\, Kathy Buckley\, Nancy Donald\, Terry Mullin\, Tony Miller\, Katrina Donovan\, David Watling\, Sydney Murray\, Rev. Alice Szemok\, Gwen Baisley\, Caden Whyte\, Charlene Savard\, Daniel Szemok\, Lou Anne Donovan\, Ronda Whyte\, children from the Sunday School and Kimberley Shaddick. \n
URL:https://993theriver.com/event/christmas-at-the-miramichi-valley-nursing-home/2017-12-01/
END:VEVENT
END:VCALENDAR