BEGIN:VCALENDAR
VERSION:2.0
PRODID:-//99.3 The River - ECPv4.6.26//NONSGML v1.0//EN
CALSCALE:GREGORIAN
METHOD:PUBLISH
X-WR-CALNAME:99.3 The River
X-ORIGINAL-URL:https://993theriver.com
X-WR-CALDESC:Events for 99.3 The River
BEGIN:VEVENT
DTSTART;TZID=America/Halifax:20230412T080000
DTEND;TZID=America/Halifax:20230425T170000
DTSTAMP:20260422T053316
CREATED:20230412T134224Z
LAST-MODIFIED:20230412T134225Z
UID:19082-1681286400-1682442000@993theriver.com
SUMMARY:Chicken Dinner
DESCRIPTION:Creamy Garlic Parmesan Chicken Dinner being held on Tuesday\, April 25th from 4:00 – 5:00 p.m. St. Andrew’s United Church\, 188 Wellington Street (Take-Out Only) (100 Tickets being presold) with mashed potatoes\, carrots\, peas\, cranberries and your choice of dessert between apple cake or chocolate zucchini cake. To purchase tickets call the church office at 773-9932. \n
URL:https://993theriver.com/event/chicken-dinner/
END:VEVENT
END:VCALENDAR