BEGIN:VCALENDAR
VERSION:2.0
PRODID:-//99.3 The River - ECPv4.6.26//NONSGML v1.0//EN
CALSCALE:GREGORIAN
METHOD:PUBLISH
X-WR-CALNAME:99.3 The River
X-ORIGINAL-URL:https://993theriver.com
X-WR-CALDESC:Events for 99.3 The River
BEGIN:VEVENT
DTSTART;TZID=UTC+1:20170630T103000
DTEND;TZID=UTC+1:20170630T113000
DTSTAMP:20260420T150712
CREATED:20170616T192743Z
LAST-MODIFIED:20170616T192743Z
UID:3200-1498818600-1498822200@993theriver.com
SUMMARY:Chatham Public Library - 2017 Summer Reading Club Programs
DESCRIPTION:Tuesdays at 2:30 – 3:30 PM\nWednesdays at 6:30 – 7:30 PM (ages 7 – 12)\nFridays at 10:30 – 11:30 (ages 2 – 6) \nThis is a non-competitive reading program intended to motivate children between 2 and 12 years to read over the summer months for a minimum of 15 minutes a day. We have weekly events and prizes to motivate kids through the summer. \n
URL:https://993theriver.com/event/chatham-public-library-2017-summer-reading-club-programs-3/2017-06-30/
END:VEVENT
END:VCALENDAR