BEGIN:VCALENDAR
VERSION:2.0
PRODID:-//99.3 The River - ECPv4.6.26//NONSGML v1.0//EN
CALSCALE:GREGORIAN
METHOD:PUBLISH
X-WR-CALNAME:99.3 The River
X-ORIGINAL-URL:https://993theriver.com
X-WR-CALDESC:Events for 99.3 The River
BEGIN:VEVENT
DTSTART;VALUE=DATE:20240801
DTEND;VALUE=DATE:20240802
DTSTAMP:20260421T041914
CREATED:20240716T115230Z
LAST-MODIFIED:20240716T115230Z
UID:22866-1722470400-1722556799@993theriver.com
SUMMARY:Chatham Head Days (July 30th - Aug 5th)
DESCRIPTION: \n
URL:https://993theriver.com/event/chatham-head-days-july-30th-aug-5th/2024-08-01/
CATEGORIES:Community Events
END:VEVENT
END:VCALENDAR