BEGIN:VCALENDAR
VERSION:2.0
PRODID:-//99.3 The River - ECPv4.6.26//NONSGML v1.0//EN
CALSCALE:GREGORIAN
METHOD:PUBLISH
X-WR-CALNAME:99.3 The River
X-ORIGINAL-URL:https://993theriver.com
X-WR-CALDESC:Events for 99.3 The River
BEGIN:VEVENT
DTSTART;VALUE=DATE:20170723
DTEND;VALUE=DATE:20170724
DTSTAMP:20260424T115001
CREATED:20170628T220736Z
LAST-MODIFIED:20170628T220817Z
UID:3378-1500768000-1500854399@993theriver.com
SUMMARY:Car Show N’ Shine - Boiestown
DESCRIPTION:The Central New Brunswick Woodmen’s Museum invites you to join us for our Car Show N’ Shine on Sunday\, July 23rd\, 2017. You will experience “Atlantic Canada’s Great Outdoors” during our annual car show. \nHighlights of the day include:\n– Live entertainment with the Country Cruisin’ Charlie Hachey\n– Free registration for cars and bikes\n– A chance to win Raffle Prizes (if you register your vehicle)\n– A chance to win the People’s Choice Award for 1st\, 2nd\, or 3rd place (if you register your vehicle)\n– Games\, such as: revamped drag racing\, and twister\, for children and children at heart\nGates open from 12 noon until 3 pm. Public Admission is by donation\, and it includes admission to the Museum Site. Join us for “not your average BBQ” – pulled pork and chili dogs\, alongside your hot dogs and hamburger.\nFor information contact:\nClaude Petitpas; Fundraising Coordinator\,\nor\nBernice Price; Executive Director \nCentral New Brunswick Woodmen’s Museum Inc.\,\n6342 Route 8\,\nBoiestown\, NB\,\nE6A 1Z5\nTel: (506) 369-7214\nEmail: fundraising.woodmen@nb.aibn.com \n
URL:https://993theriver.com/event/car-show-n-shine-boiestown/
END:VEVENT
END:VCALENDAR