BEGIN:VCALENDAR
VERSION:2.0
PRODID:-//99.3 The River - ECPv4.6.26//NONSGML v1.0//EN
CALSCALE:GREGORIAN
METHOD:PUBLISH
X-WR-CALNAME:99.3 The River
X-ORIGINAL-URL:https://993theriver.com
X-WR-CALDESC:Events for 99.3 The River
BEGIN:VEVENT
DTSTART;TZID=America/Halifax:20221105T110000
DTEND;TZID=America/Halifax:20221105T110000
DTSTAMP:20260422T142221
CREATED:20221015T130243Z
LAST-MODIFIED:20221015T130243Z
UID:17995-1667646000-1667646000@993theriver.com
SUMMARY:Camp Sheldrake - Annual General Meeting
DESCRIPTION:Saturday\, November 5th \n11 AM \nKnights of Columbus Hall\, 67 King Street in Miramichi. \nFollowing the AGM\, a Memorial Board service will be held and a light lunch will be served afterward. The Meeting is open to the public with voting restricted to members. \n
URL:https://993theriver.com/event/camp-sheldrake-annual-general-meeting/
CATEGORIES:Community
END:VEVENT
END:VCALENDAR