BEGIN:VCALENDAR
VERSION:2.0
PRODID:-//99.3 The River - ECPv4.6.26//NONSGML v1.0//EN
CALSCALE:GREGORIAN
METHOD:PUBLISH
X-WR-CALNAME:99.3 The River
X-ORIGINAL-URL:https://993theriver.com
X-WR-CALDESC:Events for 99.3 The River
BEGIN:VEVENT
DTSTART;TZID=America/Halifax:20221105T110000
DTEND;TZID=America/Halifax:20221105T110000
DTSTAMP:20260420T074803
CREATED:20221002T132741Z
LAST-MODIFIED:20221002T132741Z
UID:17921-1667646000-1667646000@993theriver.com
SUMMARY:Camp Sheldrake AGM Meeting
DESCRIPTION:Saturday\, November 5th at 11AM at the Knights of Columbus Hall at 67 King Street in Miramichi. \nAt this meeting\, the 2021 year-end financial report will be reviewed\, and various reports will be presented on the 2022 operating year. Board Director positions and terms will also be voted on. Following the AGM\, a Memorial Board service will be held\, and a light lunch will be served afterward. \nThe meeting is open to the public with voting restricted to members. \n
URL:https://993theriver.com/event/camp-sheldrake-agm-meeting/
CATEGORIES:Community
END:VEVENT
END:VCALENDAR