BEGIN:VCALENDAR
VERSION:2.0
PRODID:-//99.3 The River - ECPv4.6.26//NONSGML v1.0//EN
CALSCALE:GREGORIAN
METHOD:PUBLISH
X-WR-CALNAME:99.3 The River
X-ORIGINAL-URL:https://993theriver.com
X-WR-CALDESC:Events for 99.3 The River
BEGIN:VEVENT
DTSTART;TZID=America/Halifax:20180107T190000
DTEND;TZID=America/Halifax:20180107T190000
DTSTAMP:20260420T073506
CREATED:20171219T175033Z
LAST-MODIFIED:20171219T175033Z
UID:5459-1515351600-1515351600@993theriver.com
SUMMARY:Bridge Lessons
DESCRIPTION:Sunday evenings from 7 – 9 PM \nIf you are interested in learning how to play Bridge\, contact David at 622-7236 \n
URL:https://993theriver.com/event/bridge-lessons/2018-01-07/
END:VEVENT
END:VCALENDAR