BEGIN:VCALENDAR
VERSION:2.0
PRODID:-//99.3 The River - ECPv4.6.26//NONSGML v1.0//EN
CALSCALE:GREGORIAN
METHOD:PUBLISH
X-WR-CALNAME:99.3 The River
X-ORIGINAL-URL:https://993theriver.com
X-WR-CALDESC:Events for 99.3 The River
BEGIN:VEVENT
DTSTART;TZID=America/Halifax:20220423T080000
DTEND;TZID=America/Halifax:20220423T230000
DTSTAMP:20260422T124040
CREATED:20220409T104354Z
LAST-MODIFIED:20220409T104354Z
UID:16874-1650700800-1650754800@993theriver.com
SUMMARY:Breakfast for Ukraine
DESCRIPTION:Millerton School \nSaturday\, April 23rd \n8-11 am. \n“donations only” with all proceeds going to the Red Cross of Ukraine \n
URL:https://993theriver.com/event/breakfast-for-ukraine/
CATEGORIES:Fundraiser
END:VEVENT
END:VCALENDAR