BEGIN:VCALENDAR
VERSION:2.0
PRODID:-//99.3 The River - ECPv4.6.26//NONSGML v1.0//EN
CALSCALE:GREGORIAN
METHOD:PUBLISH
X-WR-CALNAME:99.3 The River
X-ORIGINAL-URL:https://993theriver.com
X-WR-CALDESC:Events for 99.3 The River
BEGIN:VEVENT
DTSTART;TZID=America/Halifax:20230129T080000
DTEND;TZID=America/Halifax:20230129T130000
DTSTAMP:20260422T142009
CREATED:20230128T141158Z
LAST-MODIFIED:20230128T141158Z
UID:18714-1674979200-1674997200@993theriver.com
SUMMARY:Breakfast
DESCRIPTION:Knights of Columbus Council Nelson Monthly Fundraising Breakfast \nSunday\, January 29th \n8 AM to 1 PM \nSeniors Hall 26 Sutton Road \n$8 Adults \n$5 Children \n$20 Family \n
URL:https://993theriver.com/event/breakfast-34/
CATEGORIES:Fundraiser
END:VEVENT
END:VCALENDAR