BEGIN:VCALENDAR
VERSION:2.0
PRODID:-//99.3 The River - ECPv4.6.26//NONSGML v1.0//EN
CALSCALE:GREGORIAN
METHOD:PUBLISH
X-WR-CALNAME:99.3 The River
X-ORIGINAL-URL:https://993theriver.com
X-WR-CALDESC:Events for 99.3 The River
BEGIN:VEVENT
DTSTART;TZID=America/Halifax:20191005T080000
DTEND;TZID=America/Halifax:20191005T110000
DTSTAMP:20260424T155758
CREATED:20191003T094342Z
LAST-MODIFIED:20191003T094342Z
UID:9320-1570262400-1570273200@993theriver.com
SUMMARY:Breakfast
DESCRIPTION:Nelson Doyle Dancers hosting a fundraiser breakfast \nOct 5th \nChatham Head Rec \n8-11 am \nProceeds go to help the group dance in Ireland 2020!! \n
URL:https://993theriver.com/event/breakfast-28/
END:VEVENT
END:VCALENDAR