BEGIN:VCALENDAR
VERSION:2.0
PRODID:-//99.3 The River - ECPv4.6.26//NONSGML v1.0//EN
CALSCALE:GREGORIAN
METHOD:PUBLISH
X-WR-CALNAME:99.3 The River
X-ORIGINAL-URL:https://993theriver.com
X-WR-CALDESC:Events for 99.3 The River
BEGIN:VEVENT
DTSTART;TZID=America/Halifax:20190805T080000
DTEND;TZID=America/Halifax:20190805T120000
DTSTAMP:20260424T155451
CREATED:20190731T144528Z
LAST-MODIFIED:20190731T144528Z
UID:8598-1564992000-1565006400@993theriver.com
SUMMARY:Breakfast
DESCRIPTION:Monday\, August 5th \nChatham Head Rec Centre \n8 AM – 12 Noon \nPancakes\, Sausages\, Homemade Beans \nSponsored by Old Timers Association \n
URL:https://993theriver.com/event/breakfast-22/
END:VEVENT
END:VCALENDAR