BEGIN:VCALENDAR
VERSION:2.0
PRODID:-//99.3 The River - ECPv4.6.26//NONSGML v1.0//EN
CALSCALE:GREGORIAN
METHOD:PUBLISH
X-WR-CALNAME:99.3 The River
X-ORIGINAL-URL:https://993theriver.com
X-WR-CALDESC:Events for 99.3 The River
BEGIN:VEVENT
DTSTART;TZID=America/Halifax:20190127T080000
DTEND;TZID=America/Halifax:20190127T130000
DTSTAMP:20260422T143537
CREATED:20190123T154111Z
LAST-MODIFIED:20190123T154111Z
UID:7211-1548576000-1548594000@993theriver.com
SUMMARY:Breakfast
DESCRIPTION:Knights of Columbus Council 8381\, in Nelson\, – monthly funding raising breakfast \nSunday\, January 27  from 8:00AM to 1:00PM \nSeniors Hall – 26 Sutton Road. \nCost is $6.00 for adults or Take-Away (622-1010)\, $4.00 for children and a Family Rate is $15.00. \nAll are welcome and the Knights greatly appreciate your support. Hope to see you at the breakfast \n
URL:https://993theriver.com/event/breakfast-13/
END:VEVENT
END:VCALENDAR