BEGIN:VCALENDAR
VERSION:2.0
PRODID:-//99.3 The River - ECPv4.6.26//NONSGML v1.0//EN
CALSCALE:GREGORIAN
METHOD:PUBLISH
X-WR-CALNAME:99.3 The River
X-ORIGINAL-URL:https://993theriver.com
X-WR-CALDESC:Events for 99.3 The River
BEGIN:VEVENT
DTSTART;VALUE=DATE:20230731
DTEND;VALUE=DATE:20230801
DTSTAMP:20260419T165903
CREATED:20230731T130408Z
LAST-MODIFIED:20230805T120219Z
UID:19635-1690761600-1690847999@993theriver.com
SUMMARY:ROGERSVILLE BLUEGRASS FESTIVAL (Aug 25th - 27th)
DESCRIPTION: \n
URL:https://993theriver.com/event/bluegrass-festival/2023-07-31/
CATEGORIES:Entertainment
END:VEVENT
END:VCALENDAR