BEGIN:VCALENDAR
VERSION:2.0
PRODID:-//99.3 The River - ECPv4.6.26//NONSGML v1.0//EN
CALSCALE:GREGORIAN
METHOD:PUBLISH
X-WR-CALNAME:99.3 The River
X-ORIGINAL-URL:https://993theriver.com
X-WR-CALDESC:Events for 99.3 The River
BEGIN:VEVENT
DTSTART;TZID=America/Halifax:20240820T163000
DTEND;TZID=America/Halifax:20240820T203000
DTSTAMP:20260421T075524
CREATED:20240804T145731Z
LAST-MODIFIED:20240804T145731Z
UID:22946-1724171400-1724185800@993theriver.com
SUMMARY:Blood Donor Clinic
DESCRIPTION: \n
URL:https://993theriver.com/event/blood-donor-clinic-7/2024-08-20/
END:VEVENT
END:VCALENDAR