BEGIN:VCALENDAR
VERSION:2.0
PRODID:-//99.3 The River - ECPv4.6.26//NONSGML v1.0//EN
CALSCALE:GREGORIAN
METHOD:PUBLISH
X-WR-CALNAME:99.3 The River
X-ORIGINAL-URL:https://993theriver.com
X-WR-CALDESC:Events for 99.3 The River
BEGIN:VEVENT
DTSTART;VALUE=DATE:20180621
DTEND;VALUE=DATE:20180622
DTSTAMP:20260421T173315
CREATED:20180528T173343Z
LAST-MODIFIED:20180528T173343Z
UID:5594-1529539200-1529625599@993theriver.com
SUMMARY:Blackville School Graduation
DESCRIPTION:
URL:https://993theriver.com/event/blackville-school-graduation/
END:VEVENT
END:VCALENDAR