BEGIN:VCALENDAR
VERSION:2.0
PRODID:-//99.3 The River - ECPv4.6.26//NONSGML v1.0//EN
CALSCALE:GREGORIAN
METHOD:PUBLISH
X-WR-CALNAME:99.3 The River
X-ORIGINAL-URL:https://993theriver.com
X-WR-CALDESC:Events for 99.3 The River
BEGIN:VEVENT
DTSTART;TZID=America/Halifax:20200217T130000
DTEND;TZID=America/Halifax:20200217T150000
DTSTAMP:20260424T133114
CREATED:20200119T225404Z
LAST-MODIFIED:20200119T225404Z
UID:10091-1581944400-1581951600@993theriver.com
SUMMARY:Berger - Free Family Day Skating
DESCRIPTION:Monday\, February 17th \nBaie-Ste. Anne Arena \n1 – 3 PM \nIn the spirit of Family Day\, Berger Invites employees\, families and the community to join them for an afternoon of free skating. \n
URL:https://993theriver.com/event/berger-free-family-day-skating/
END:VEVENT
END:VCALENDAR