BEGIN:VCALENDAR
VERSION:2.0
PRODID:-//99.3 The River - ECPv4.6.26//NONSGML v1.0//EN
CALSCALE:GREGORIAN
METHOD:PUBLISH
X-WR-CALNAME:99.3 The River
X-ORIGINAL-URL:https://993theriver.com
X-WR-CALDESC:Events for 99.3 The River
BEGIN:VEVENT
DTSTART;TZID=America/Halifax:20210925T130000
DTEND;TZID=America/Halifax:20210925T170000
DTSTAMP:20260424T050418
CREATED:20210919T150047Z
LAST-MODIFIED:20210922T031329Z
UID:15567-1632574800-1632589200@993theriver.com
SUMMARY:CANCELLED - Benefit Fundraiser for Camp Sheldrake
DESCRIPTION:Saturday September 25th \n1-5 pm \nEntertainment – from 1-2 music by Bob Robichaud and Rick Vienneau \nFrom 2-5 music will be provided by a variety of talent. \nDonations will be accepted at the door. \nThis event is sponsored by the Newcastle United Church center. \n
URL:https://993theriver.com/event/benefit-fundraiser-for-camp-sheldrake/
END:VEVENT
END:VCALENDAR