BEGIN:VCALENDAR
VERSION:2.0
PRODID:-//99.3 The River - ECPv4.6.26//NONSGML v1.0//EN
CALSCALE:GREGORIAN
METHOD:PUBLISH
X-WR-CALNAME:99.3 The River
X-ORIGINAL-URL:https://993theriver.com
X-WR-CALDESC:Events for 99.3 The River
BEGIN:VEVENT
DTSTART;TZID=UTC+1:20171118T140000
DTEND;TZID=UTC+1:20171118T235900
DTSTAMP:20260422T141519
CREATED:20171116T204707Z
LAST-MODIFIED:20171116T204707Z
UID:5237-1511013600-1511049540@993theriver.com
SUMMARY:Benefit for Wallace Anderson
DESCRIPTION:Saturday November 18th \n2 PM – Midnight \nBarryville Golden Age Club \nbake sale\, tickets for sale on a basket\, the lucky jar\, lots of food and lots of music/entertainment \n
URL:https://993theriver.com/event/benefit-for-wallace-anderson/
END:VEVENT
END:VCALENDAR