BEGIN:VCALENDAR
VERSION:2.0
PRODID:-//99.3 The River - ECPv4.6.26//NONSGML v1.0//EN
CALSCALE:GREGORIAN
METHOD:PUBLISH
X-WR-CALNAME:99.3 The River
X-ORIGINAL-URL:https://993theriver.com
X-WR-CALDESC:Events for 99.3 The River
BEGIN:VEVENT
DTSTART;TZID=America/Halifax:20171216T180000
DTEND;TZID=America/Halifax:20171216T180000
DTSTAMP:20260422T142115
CREATED:20171213T143605Z
LAST-MODIFIED:20171213T143605Z
UID:5428-1513447200-1513447200@993theriver.com
SUMMARY:Benefit for Gordie Briggs
DESCRIPTION:Location: Nordin Rec Centre\, 24 Nordin Lane\nDate: Saturday\, December 16th\, 2017\nTime: 6pm to 12pm \n  \nGordie Briggs ran his small business Briggs Automotive that was sadly lost to fire on Tuesday evening November 28th. In this fire Gordie lost all of his tools and equipment. The fundraiser is to help get his tools back so he can get back to work and serving the people of the Miramichi as he so loved to do. \n\nsilent auction\,\n50/50 tickets\,\nevening of food and entertainment with Crossover\nDonations will be accepted at the door also. If you are interested in donating an item for silent auction please contact myself\, Angelia Morrison at 424-1008 or Shawn Morrison at 624-8661\n\n
URL:https://993theriver.com/event/benefit-for-gordie-briggs/
END:VEVENT
END:VCALENDAR