BEGIN:VCALENDAR
VERSION:2.0
PRODID:-//99.3 The River - ECPv4.6.26//NONSGML v1.0//EN
CALSCALE:GREGORIAN
METHOD:PUBLISH
X-WR-CALNAME:99.3 The River
X-ORIGINAL-URL:https://993theriver.com
X-WR-CALDESC:Events for 99.3 The River
BEGIN:VEVENT
DTSTART;TZID=America/Halifax:20211003T140000
DTEND;TZID=America/Halifax:20211003T170000
DTSTAMP:20260421T112440
CREATED:20210925T115426Z
LAST-MODIFIED:20210925T115426Z
UID:15667-1633269600-1633280400@993theriver.com
SUMMARY:Benefit for Derek Donahue
DESCRIPTION:Sunday October 3rd \n2-5 PM \nBlackville Park \nSilent auction\, barbecue\, local talent. \nCome out and support Derek Donahue and family \n
URL:https://993theriver.com/event/benefit-for-derek-donahue/
CATEGORIES:Fundraiser
END:VEVENT
END:VCALENDAR