BEGIN:VCALENDAR
VERSION:2.0
PRODID:-//99.3 The River - ECPv4.6.26//NONSGML v1.0//EN
CALSCALE:GREGORIAN
METHOD:PUBLISH
X-WR-CALNAME:99.3 The River
X-ORIGINAL-URL:https://993theriver.com
X-WR-CALDESC:Events for 99.3 The River
BEGIN:VEVENT
DTSTART;TZID=America/Halifax:20191201T140000
DTEND;TZID=America/Halifax:20191201T180000
DTSTAMP:20260422T143640
CREATED:20191127T002633Z
LAST-MODIFIED:20191127T002633Z
UID:9828-1575208800-1575223200@993theriver.com
SUMMARY:Benefit for Darlene Keoughan
DESCRIPTION:December 1st\, 2019 \nChatham Pioneers Seniors Club \n2pm to 6pm. \nAll monies raised will be used to help maintain basic living needs and extra expenses associated with the additional travel and medical needs as a result of cancer treatment. \nCome on out show your support\, enjoy a desert and entertainment. Let’s help make this journey for Darlene\, Kiera and Caleb the Miramichi way. \n
URL:https://993theriver.com/event/benefit-for-darlene-keoughan/
END:VEVENT
END:VCALENDAR