BEGIN:VCALENDAR
VERSION:2.0
PRODID:-//99.3 The River - ECPv4.6.26//NONSGML v1.0//EN
CALSCALE:GREGORIAN
METHOD:PUBLISH
X-WR-CALNAME:99.3 The River
X-ORIGINAL-URL:https://993theriver.com
X-WR-CALDESC:Events for 99.3 The River
BEGIN:VEVENT
DTSTART;TZID=America/Halifax:20210725T130000
DTEND;TZID=America/Halifax:20210725T170000
DTSTAMP:20260425T125343
CREATED:20210724T131404Z
LAST-MODIFIED:20210724T131404Z
UID:14912-1627218000-1627232400@993theriver.com
SUMMARY:Benefit for Amanda Taylor (Manuel)
DESCRIPTION: \n
URL:https://993theriver.com/event/benefit-for-amanda-taylor-manuel/
CATEGORIES:Fundraiser
END:VEVENT
END:VCALENDAR