BEGIN:VCALENDAR
VERSION:2.0
PRODID:-//99.3 The River - ECPv4.6.26//NONSGML v1.0//EN
CALSCALE:GREGORIAN
METHOD:PUBLISH
X-WR-CALNAME:99.3 The River
X-ORIGINAL-URL:https://993theriver.com
X-WR-CALDESC:Events for 99.3 The River
BEGIN:VEVENT
DTSTART;TZID=America/Halifax:20250306T080000
DTEND;TZID=America/Halifax:20250308T170000
DTSTAMP:20260422T183528
CREATED:20250306T122350Z
LAST-MODIFIED:20250306T122350Z
UID:23884-1741248000-1741453200@993theriver.com
SUMMARY:Benefit breakfast
DESCRIPTION:A benefit breakfast will be held for Emerson Beggs at the Chatham Head Rec Centre on Saturday\, March 8 from 8 – 11 am. Pancakes and sausages will be served along with juice or coffee and tea. Please show your support for Emerson and his family as he deals with medical issues. \n
URL:https://993theriver.com/event/benefit-breakfast-3/
END:VEVENT
END:VCALENDAR