BEGIN:VCALENDAR
VERSION:2.0
PRODID:-//99.3 The River - ECPv4.6.26//NONSGML v1.0//EN
CALSCALE:GREGORIAN
METHOD:PUBLISH
X-WR-CALNAME:99.3 The River
X-ORIGINAL-URL:https://993theriver.com
X-WR-CALDESC:Events for 99.3 The River
BEGIN:VEVENT
DTSTART;VALUE=DATE:20240718
DTEND;VALUE=DATE:20240721
DTSTAMP:20260419T155037
CREATED:20231215T141826Z
LAST-MODIFIED:20240314T143708Z
UID:20872-1721260800-1721519999@993theriver.com
SUMMARY:Bathurst Hospitality Days
DESCRIPTION: LINEUP THAT WILL BLOW YOUR MIND!\nTHREE headliners: Barenaked Ladies\, The Road Hammers\, and Tim Hicks and NINE incredible artists will take the stage\, ensuring non-stop entertainment and memories to last a lifetime! \nJOIN THE PARTY OF THE YEAR!\nJournee Hospitality Bathurst Hospitality Days is not just an event; it’s an experience! Mark your calendars\, gather your crew\, and get ready to party the night away under the stars! \nDON’T MISS OUT – GRAB YOUR SUPERPASSES NOW\n99.3 The River is giving you exclusive access. Use promo code MIRAMICHI in the top right of the ticket page to get 3 day superpass access to this awesome event! \nGet Tickets \n
URL:https://993theriver.com/event/bathurst-hospitality-days/
LOCATION:Vickers Field
ATTACH;FMTTYPE=image/jpeg:https://993theriver.com/wp-content/uploads/sites/19/2023/12/baturst-Miramichi.jpg
END:VEVENT
END:VCALENDAR