BEGIN:VCALENDAR
VERSION:2.0
PRODID:-//99.3 The River - ECPv4.6.26//NONSGML v1.0//EN
CALSCALE:GREGORIAN
METHOD:PUBLISH
X-WR-CALNAME:99.3 The River
X-ORIGINAL-URL:https://993theriver.com
X-WR-CALDESC:Events for 99.3 The River
BEGIN:VEVENT
DTSTART;VALUE=DATE:20230729
DTEND;VALUE=DATE:20230730
DTSTAMP:20260419T170720
CREATED:20230723T124048Z
LAST-MODIFIED:20230723T124048Z
UID:19561-1690588800-1690675199@993theriver.com
SUMMARY:Barnaby Days
DESCRIPTION:July 29th & 30th\n\nSaturday5 & 10 Km run – Registration starts at 6:45\, run at 7:30 $10/person\nBreakfast 8-11$8 adults and kids under 12 $5\n\nAfternoonKids activities- volleyball\, badminton\, water gamesMusicWasher Toss Tournament – Register with a partner between 1-1:30 .. Games start at 2 – prizes to be wonBBQ $\nBeer Garden Dance featuring “Thirsty Rangers9 pm -2 am $10/personno entrance after 1 amBBQ on site $\n\nSunday1-5 pm Car & Bike Show $10/car or bike – prizes to be wonLive entertainment – Riley HarrisBar open all afternoonBBQ on site\n
URL:https://993theriver.com/event/barnaby-days-2/2023-07-29/
CATEGORIES:Community Events,Entertainment
END:VEVENT
END:VCALENDAR