BEGIN:VCALENDAR
VERSION:2.0
PRODID:-//99.3 The River - ECPv4.6.26//NONSGML v1.0//EN
CALSCALE:GREGORIAN
METHOD:PUBLISH
X-WR-CALNAME:99.3 The River
X-ORIGINAL-URL:https://993theriver.com
X-WR-CALDESC:Events for 99.3 The River
BEGIN:VEVENT
DTSTART;TZID=UTC+1:20171118T160000
DTEND;TZID=UTC+1:20171118T180000
DTSTAMP:20260420T070129
CREATED:20171106T035431Z
LAST-MODIFIED:20171106T035431Z
UID:4793-1511020800-1511028000@993theriver.com
SUMMARY:Baked Beans & Wiener Supper
DESCRIPTION:“Miramichi Worldwide – baked beans\, wieners supper with dessert\, brown bread\, tea/coffee \nSaturday\, Nov. 18th \n4 – 6 p.m. \nRoyal Canadian Legion in Chatham. \nCost is a free-will donation. \nTickets will be available on quilt and there will be a 50/50 draw. \nProceeds from this fundraiser will go towards project in Rwanda in the new year. Everyone is welcome.” \n
URL:https://993theriver.com/event/baked-beans-wiener-supper/
END:VEVENT
END:VCALENDAR