BEGIN:VCALENDAR
VERSION:2.0
PRODID:-//99.3 The River - ECPv4.6.26//NONSGML v1.0//EN
CALSCALE:GREGORIAN
METHOD:PUBLISH
X-WR-CALNAME:99.3 The River
X-ORIGINAL-URL:https://993theriver.com
X-WR-CALDESC:Events for 99.3 The River
BEGIN:VEVENT
DTSTART;TZID=UTC+1:20170930T093000
DTEND;TZID=UTC+1:20170930T120000
DTSTAMP:20260425T185801
CREATED:20170919T035826Z
LAST-MODIFIED:20170919T035826Z
UID:4254-1506763800-1506772800@993theriver.com
SUMMARY:Autism Resources Miramichi Autism Walk and Family Day
DESCRIPTION:The Annual Pumpkin Fling is to be hosted September 30th\, 2017 at Waterfront Green Miramichi East. \nThis year Autism Resources Miramichi is joining in on the Pumpkin Fling celebration. It is Autism Resources Miramichi Inc.’s good fortune to be invited to be part of this wonderful community event. We are so very honored.\nWe are also hosting our Annual Autism Walk and Family Fun Day in partnership with APEGNB Pumpkin Fling organizers. We urge you to come out from 9:30 am to 12:00 pm for our special fun filled activities. Don’t forget to join us in our annual Walk for Autism. The walk commences at 10:30 at the Waterfront Green. Families\, friends and community are invited to participate in the walk. It is a chance for all who are affected with Autism Spectrum Disorder to come out for a fun family day. It is also a day for the public to support the autism community. This is an important fundraiser for the center\, and we are asking our community to support us by pledging a donation. Pledge sheets are available at www.autismmiramichi.com\nThe children are sure to be excited to play on the free jumping castle or get a free animal balloon from the balloon artist. In addition we have free face painting. The little ones are sure to love this activity. Enjoy a day of music\, and when the tummy is empty\, wander over to our BBQ for a hamburger or dog.\nKim Harris is available to take pictures at the fall photo booth. Kim’s photos are simply beautiful. A parent or grandparent will be delighed to receive one free print.\nThe APEGN pumpkin fling is from 12:00 pm to 3:00 pm. The pumpkin fling is to be enjoyed by all ages. Come out and cheer on the participants. \n
URL:https://993theriver.com/event/autism-resources-miramichi-autism-walk-and-family-day/
END:VEVENT
END:VCALENDAR