BEGIN:VCALENDAR
VERSION:2.0
PRODID:-//99.3 The River - ECPv4.6.26//NONSGML v1.0//EN
CALSCALE:GREGORIAN
METHOD:PUBLISH
X-WR-CALNAME:99.3 The River
X-ORIGINAL-URL:https://993theriver.com
X-WR-CALDESC:Events for 99.3 The River
BEGIN:VEVENT
DTSTART;TZID=UTC+1:20170617T120000
DTEND;TZID=UTC+1:20170617T160000
DTSTAMP:20260422T171849
CREATED:20170518T025113Z
LAST-MODIFIED:20170518T025113Z
UID:2827-1497700800-1497715200@993theriver.com
SUMMARY:Art Exhibit and Bake Sale
DESCRIPTION: \n
URL:https://993theriver.com/event/art-exhibit-and-bake-sale/
END:VEVENT
END:VCALENDAR