BEGIN:VCALENDAR
VERSION:2.0
PRODID:-//99.3 The River - ECPv4.6.26//NONSGML v1.0//EN
CALSCALE:GREGORIAN
METHOD:PUBLISH
X-WR-CALNAME:99.3 The River
X-ORIGINAL-URL:https://993theriver.com
X-WR-CALDESC:Events for 99.3 The River
BEGIN:VEVENT
DTSTART;TZID=UTC+1:20170617T120000
DTEND;TZID=UTC+1:20170617T160000
DTSTAMP:20260422T184303
CREATED:20170616T195456Z
LAST-MODIFIED:20170616T195456Z
UID:3268-1497700800-1497715200@993theriver.com
SUMMARY:ART AND CRAFT EXHIBIT AND BAKE SALE
DESCRIPTION:HOSPICE MIRAMICHI AND THE DAY HOSPICE PROGRAM – ART AND CRAFT EXHIBIT AND BAKE SALE \n JUNE 17TH FROM 12 TIL 4  \n14 HOWARD STREET. \nADMISSION IS A DONATION TO HOSPICE MIRAMICHI AND DONATIONS GREATER THAN 10 DOLLARS ARE ELIGIBLE FOR A TAX RECEIPT. \nALL CRAFTS ARE CREATED BY OUR DAY HOSPICE CLIENTS AND WILL BE AVAILABLE FOR SALE. \nCOME OUT AND SEE WHAT WE CAN OFFER TO THOSE IN OUR COMMUNITY LIVING WITH LIFE LIMITING ILLNESSES. FOR MORE INFORMATION\, CALL 773-7607. \n
URL:https://993theriver.com/event/art-and-craft-exhibit-and-bake-sale/
END:VEVENT
END:VCALENDAR