BEGIN:VCALENDAR
VERSION:2.0
PRODID:-//99.3 The River - ECPv4.6.26//NONSGML v1.0//EN
CALSCALE:GREGORIAN
METHOD:PUBLISH
X-WR-CALNAME:99.3 The River
X-ORIGINAL-URL:https://993theriver.com
X-WR-CALDESC:Events for 99.3 The River
BEGIN:VEVENT
DTSTART;TZID=America/Halifax:20211016T183000
DTEND;TZID=America/Halifax:20211016T203000
DTSTAMP:20260423T075715
CREATED:20211016T133303Z
LAST-MODIFIED:20211016T133303Z
UID:15839-1634409000-1634416200@993theriver.com
SUMMARY:Archery
DESCRIPTION:Want to try Archery ?\nEvery Saturday 6:30. – 8:30 pm\nGolden Hawk Recreation Centre\nMiramichi Archery Club\nAll equipment provided\n$10 per person\nMore info…miramichiarchery@hotmail.com \n
URL:https://993theriver.com/event/archery/2021-10-16/
CATEGORIES:Sports
END:VEVENT
END:VCALENDAR