BEGIN:VCALENDAR
VERSION:2.0
PRODID:-//99.3 The River - ECPv4.6.26//NONSGML v1.0//EN
CALSCALE:GREGORIAN
METHOD:PUBLISH
X-WR-CALNAME:99.3 The River
X-ORIGINAL-URL:https://993theriver.com
X-WR-CALDESC:Events for 99.3 The River
BEGIN:VEVENT
DTSTART;TZID=America/Halifax:20181115T190000
DTEND;TZID=America/Halifax:20181115T190000
DTSTAMP:20260422T130605
CREATED:20181109T121344Z
LAST-MODIFIED:20181109T121344Z
UID:6870-1542308400-1542308400@993theriver.com
SUMMARY:Angels Remembered Tree Lighting
DESCRIPTION:Thursday\, November 15th at 7pm\n14 Howard Street in Chatham \nA unique way to honour your loved ones at Christmas. For a donation of your choice\, the name of your loved one will be displayed on our memorial tree. Part of Hospice Miramichi’s 4th Annual Home for the Holidays Event. \n
URL:https://993theriver.com/event/angels-remembered-tree-lighting/
END:VEVENT
END:VCALENDAR