BEGIN:VCALENDAR
VERSION:2.0
PRODID:-//99.3 The River - ECPv4.6.26//NONSGML v1.0//EN
CALSCALE:GREGORIAN
METHOD:PUBLISH
X-WR-CALNAME:99.3 The River
X-ORIGINAL-URL:https://993theriver.com
X-WR-CALDESC:Events for 99.3 The River
BEGIN:VEVENT
DTSTART;TZID=America/Halifax:20250512T080000
DTEND;TZID=America/Halifax:20250522T170000
DTSTAMP:20260422T143640
CREATED:20250512T094831Z
LAST-MODIFIED:20250512T094831Z
UID:24247-1747036800-1747933200@993theriver.com
SUMMARY:Alice in Wonderland
DESCRIPTION:NSER’s drama class will be performing Alice in Wonderland at 6:30 on May 21st and 22nd. Tickets are $5 at the door. \n
URL:https://993theriver.com/event/alice-in-wonderland/
END:VEVENT
END:VCALENDAR