BEGIN:VCALENDAR
VERSION:2.0
PRODID:-//99.3 The River - ECPv4.6.26//NONSGML v1.0//EN
CALSCALE:GREGORIAN
METHOD:PUBLISH
X-WR-CALNAME:99.3 The River
X-ORIGINAL-URL:https://993theriver.com
X-WR-CALDESC:Events for 99.3 The River
BEGIN:VEVENT
DTSTART;TZID=America/Halifax:20260108T190000
DTEND;TZID=America/Halifax:20260108T200000
DTSTAMP:20260422T155310
CREATED:20260105T084948Z
LAST-MODIFIED:20260105T084951Z
UID:25116-1767898800-1767902400@993theriver.com
SUMMARY:AL-ANON FAMILY GROUP MEETING
DESCRIPTION:There is a Thursday evening Al-anon meeting at the Tidal church across from papa Joe’s…meeting starts at 7 and ends at 8pm…it is a weekly meeting … \n
URL:https://993theriver.com/event/al-anon-family-group-meeting/
END:VEVENT
END:VCALENDAR