BEGIN:VCALENDAR
VERSION:2.0
PRODID:-//99.3 The River - ECPv4.6.26//NONSGML v1.0//EN
CALSCALE:GREGORIAN
METHOD:PUBLISH
X-WR-CALNAME:99.3 The River
X-ORIGINAL-URL:https://993theriver.com
X-WR-CALDESC:Events for 99.3 The River
BEGIN:VEVENT
DTSTART;TZID=America/Halifax:20171209T130000
DTEND;TZID=America/Halifax:20171209T150000
DTSTAMP:20260421T204426
CREATED:20171129T145145Z
LAST-MODIFIED:20171129T145145Z
UID:5306-1512824400-1512831600@993theriver.com
SUMMARY:Adoptions NB Christmas Party
DESCRIPTION:Adoptions New Brunswick will be hosting a Christmas party for foster families and families who have adopted. The Christmas party will be held at the Knights of Columbus Hall at 67 King street on Saturday\, December 9th from 1 to 3pm. There will be lots of gifts\, games and treats. \n
URL:https://993theriver.com/event/adoptions-nb-christmas-party/
END:VEVENT
END:VCALENDAR